BEGIN:VCALENDAR
PRODID:-//github.com/ical-org/ical.net//NONSGML ical.net 4.0//EN
VERSION:2.0
BEGIN:VEVENT
DESCRIPTION:Join our joyful Mixed-Age Music Together classes and share the
  magic of singing\,\ndancing\, and music-making with your child. Perfect 
 for ages 8 months–4 years\,\nthese 45-minute family classes are fun\, eng
 aging\, and filled with opportunities\nto bond\, learn\, and make memorie
 s together.
DTSTAMP:20260419T200832Z
DTSTART:20260614T083000
LOCATION:Golden State Ballet Academy\, 6338 Riverdale St San Diego\, CA 92
 120
SEQUENCE:0
SUMMARY:Demo Class on 6/13 @8:30am with Tammy
UID:9358509
END:VEVENT
BEGIN:VTIMEZONE
TZID:US/Pacific
X-LIC-LOCATION:US/Pacific
END:VTIMEZONE
END:VCALENDAR
