BEGIN:VCALENDAR
PRODID:-//github.com/ical-org/ical.net//NONSGML ical.net 4.0//EN
VERSION:2.0
BEGIN:VEVENT
DESCRIPTION:Join our joyful Mixed-Age Music Together classes and share the
  magic of singing\,\ndancing\, and music-making with your child. Perfect 
 for ages 8 months–4 years\,\nthese 45-minute family classes are fun\, eng
 aging\, and filled with opportunities\nto bond\, learn\, and make memorie
 s together.
DTEND:20260712T091500
DTSTAMP:20260419T183539Z
DTSTART:20260712T083000
LOCATION:Golden State Ballet Academy\, 6338 Riverdale St San Diego\, CA 92
 120
SEQUENCE:0
SUMMARY:Kazoo-Sundays@8:30am with Tammy
UID:9352644
END:VEVENT
BEGIN:VEVENT
DESCRIPTION:Join our joyful Mixed-Age Music Together classes and share the
  magic of singing\,\ndancing\, and music-making with your child. Perfect 
 for ages 8 months–4 years\,\nthese 45-minute family classes are fun\, eng
 aging\, and filled with opportunities\nto bond\, learn\, and make memorie
 s together.
DTEND:20260719T091500
DTSTAMP:20260419T183539Z
DTSTART:20260719T083000
LOCATION:Golden State Ballet Academy\, 6338 Riverdale St San Diego\, CA 92
 120
SEQUENCE:0
SUMMARY:Kazoo-Sundays@8:30am with Tammy
UID:9352645
END:VEVENT
BEGIN:VEVENT
DESCRIPTION:Join our joyful Mixed-Age Music Together classes and share the
  magic of singing\,\ndancing\, and music-making with your child. Perfect 
 for ages 8 months–4 years\,\nthese 45-minute family classes are fun\, eng
 aging\, and filled with opportunities\nto bond\, learn\, and make memorie
 s together.
DTEND:20260726T091500
DTSTAMP:20260419T183539Z
DTSTART:20260726T083000
LOCATION:Golden State Ballet Academy\, 6338 Riverdale St San Diego\, CA 92
 120
SEQUENCE:0
SUMMARY:Kazoo-Sundays@8:30am with Tammy
UID:9352646
END:VEVENT
BEGIN:VEVENT
DESCRIPTION:Join our joyful Mixed-Age Music Together classes and share the
  magic of singing\,\ndancing\, and music-making with your child. Perfect 
 for ages 8 months–4 years\,\nthese 45-minute family classes are fun\, eng
 aging\, and filled with opportunities\nto bond\, learn\, and make memorie
 s together.
DTEND:20260802T091500
DTSTAMP:20260419T183539Z
DTSTART:20260802T083000
LOCATION:Golden State Ballet Academy\, 6338 Riverdale St San Diego\, CA 92
 120
SEQUENCE:0
SUMMARY:Kazoo-Sundays@8:30am with Tammy
UID:9352647
END:VEVENT
BEGIN:VEVENT
DESCRIPTION:Join our joyful Mixed-Age Music Together classes and share the
  magic of singing\,\ndancing\, and music-making with your child. Perfect 
 for ages 8 months–4 years\,\nthese 45-minute family classes are fun\, eng
 aging\, and filled with opportunities\nto bond\, learn\, and make memorie
 s together.
DTEND:20260809T091500
DTSTAMP:20260419T183539Z
DTSTART:20260809T083000
LOCATION:Golden State Ballet Academy\, 6338 Riverdale St San Diego\, CA 92
 120
SEQUENCE:0
SUMMARY:Kazoo-Sundays@8:30am with Tammy
UID:9352648
END:VEVENT
BEGIN:VEVENT
DESCRIPTION:Join our joyful Mixed-Age Music Together classes and share the
  magic of singing\,\ndancing\, and music-making with your child. Perfect 
 for ages 8 months–4 years\,\nthese 45-minute family classes are fun\, eng
 aging\, and filled with opportunities\nto bond\, learn\, and make memorie
 s together.
DTEND:20260816T091500
DTSTAMP:20260419T183539Z
DTSTART:20260816T083000
LOCATION:Golden State Ballet Academy\, 6338 Riverdale St San Diego\, CA 92
 120
SEQUENCE:0
SUMMARY:Kazoo-Sundays@8:30am with Tammy
UID:9352649
END:VEVENT
BEGIN:VTIMEZONE
TZID:US/Pacific
X-LIC-LOCATION:US/Pacific
END:VTIMEZONE
END:VCALENDAR
